BEGIN:VCALENDAR
VERSION:2.0
PRODID:-//wp-events-plugin.com//7.2.3.1//EN
TZID:America/Los_Angeles
X-WR-TIMEZONE:America/Los_Angeles
BEGIN:VEVENT
UID:1@forkswashington.org
DTSTART;TZID=America/Los_Angeles;VALUE=DATE:20230310
DTEND;TZID=America/Los_Angeles;VALUE=DATE:20230313
DTSTAMP:20230308T233216Z
URL:https://forkswashington.org/rac-schedule/private-event/
SUMMARY:Private Event
DESCRIPTION:
END:VEVENT
BEGIN:VEVENT
UID:2@forkswashington.org
DTSTART;TZID=America/Los_Angeles;VALUE=DATE:20230316
DTEND;TZID=America/Los_Angeles;VALUE=DATE:20230320
DTSTAMP:20230308T233310Z
URL:https://forkswashington.org/rac-schedule/ftf-equinox/
SUMMARY:FTF Equinox
DESCRIPTION:
END:VEVENT
BEGIN:VEVENT
UID:4@forkswashington.org
DTSTART;TZID=America/Los_Angeles;VALUE=DATE:20230414
DTEND;TZID=America/Los_Angeles;VALUE=DATE:20230417
DTSTAMP:20230308T233737Z
URL:https://forkswashington.org/rac-schedule/private-event-2/
SUMMARY:Private Event
DESCRIPTION:
END:VEVENT
BEGIN:VEVENT
UID:5@forkswashington.org
DTSTART;TZID=America/Los_Angeles;VALUE=DATE:20230421
DTEND;TZID=America/Los_Angeles;VALUE=DATE:20230424
DTSTAMP:20230310T001759Z
URL:https://forkswashington.org/rac-schedule/community-event/
SUMMARY:Community Event
DESCRIPTION:
END:VEVENT
BEGIN:VEVENT
UID:6@forkswashington.org
DTSTART;TZID=America/Los_Angeles;VALUE=DATE:20230428
DTEND;TZID=America/Los_Angeles;VALUE=DATE:20230501
DTSTAMP:20230310T001826Z
URL:https://forkswashington.org/rac-schedule/private-event-3/
SUMMARY:Private Event
DESCRIPTION:
END:VEVENT
BEGIN:VEVENT
UID:7@forkswashington.org
DTSTART;TZID=America/Los_Angeles;VALUE=DATE:20230503
DTEND;TZID=America/Los_Angeles;VALUE=DATE:20230504
DTSTAMP:20230310T001911Z
URL:https://forkswashington.org/rac-schedule/event-2/
SUMMARY:Event
DESCRIPTION:
END:VEVENT
BEGIN:VEVENT
UID:8@forkswashington.org
DTSTART;TZID=America/Los_Angeles;VALUE=DATE:20230505
DTEND;TZID=America/Los_Angeles;VALUE=DATE:20230512
DTSTAMP:20230310T001945Z
URL:https://forkswashington.org/rac-schedule/private-event-4/
SUMMARY:Private Event
DESCRIPTION:
END:VEVENT
BEGIN:VEVENT
UID:9@forkswashington.org
DTSTART;TZID=America/Los_Angeles;VALUE=DATE:20230512
DTEND;TZID=America/Los_Angeles;VALUE=DATE:20230515
DTSTAMP:20230310T002029Z
URL:https://forkswashington.org/rac-schedule/private-event-5/
SUMMARY:Private Event
DESCRIPTION:
END:VEVENT
BEGIN:VEVENT
UID:10@forkswashington.org
DTSTART;TZID=America/Los_Angeles;VALUE=DATE:20230518
DTEND;TZID=America/Los_Angeles;VALUE=DATE:20230519
DTSTAMP:20230310T002052Z
URL:https://forkswashington.org/rac-schedule/private-event-6/
SUMMARY:Private Event
DESCRIPTION:
END:VEVENT
BEGIN:VEVENT
UID:11@forkswashington.org
DTSTART;TZID=America/Los_Angeles;VALUE=DATE:20230525
DTEND;TZID=America/Los_Angeles;VALUE=DATE:20230530
DTSTAMP:20230310T002155Z
URL:https://forkswashington.org/rac-schedule/community-event-2/
SUMMARY:Community Event
DESCRIPTION:
END:VEVENT
BEGIN:VEVENT
UID:12@forkswashington.org
DTSTART;TZID=America/Los_Angeles;VALUE=DATE:20230616
DTEND;TZID=America/Los_Angeles;VALUE=DATE:20230619
DTSTAMP:20230310T002229Z
URL:https://forkswashington.org/rac-schedule/private-event-7/
SUMMARY:Private Event
DESCRIPTION:
END:VEVENT
BEGIN:VEVENT
UID:16@forkswashington.org
DTSTART;TZID=America/Los_Angeles;VALUE=DATE:20230629
DTEND;TZID=America/Los_Angeles;VALUE=DATE:20230706
DTSTAMP:20230605T204228Z
URL:https://forkswashington.org/rac-schedule/4th-of-july-events-2/
SUMMARY:4th of July Events
DESCRIPTION:
END:VEVENT
BEGIN:VEVENT
UID:20@forkswashington.org
DTSTART;TZID=America/Los_Angeles;VALUE=DATE:20230724
DTEND;TZID=America/Los_Angeles;VALUE=DATE:20230726
DTSTAMP:20230606T191413Z
URL:https://forkswashington.org/rac-schedule/private-event-8/
SUMMARY:Private Event
DESCRIPTION:
END:VEVENT
BEGIN:VEVENT
UID:15@forkswashington.org
DTSTART;TZID=America/Los_Angeles;VALUE=DATE:20230727
DTEND;TZID=America/Los_Angeles;VALUE=DATE:20230728
DTSTAMP:20230605T204154Z
URL:https://forkswashington.org/rac-schedule/4th-of-july-events/
SUMMARY:Private Event
DESCRIPTION:
END:VEVENT
BEGIN:VEVENT
UID:21@forkswashington.org
DTSTART;TZID=America/Los_Angeles;VALUE=DATE:20230814
DTEND;TZID=America/Los_Angeles;VALUE=DATE:20230815
DTSTAMP:20230706T213445Z
URL:https://forkswashington.org/rac-schedule/event-3/
SUMMARY:Event
DESCRIPTION:
END:VEVENT
BEGIN:VEVENT
UID:17@forkswashington.org
DTSTART;TZID=America/Los_Angeles;VALUE=DATE:20230818
DTEND;TZID=America/Los_Angeles;VALUE=DATE:20230821
DTSTAMP:20230706T213740Z
URL:https://forkswashington.org/rac-schedule/hot-thunder-nite/
SUMMARY:Hot Thunder Nite
DESCRIPTION:
END:VEVENT
BEGIN:VEVENT
UID:18@forkswashington.org
DTSTART;TZID=America/Los_Angeles;VALUE=DATE:20230908
DTEND;TZID=America/Los_Angeles;VALUE=DATE:20230919
DTSTAMP:20230605T205437Z
URL:https://forkswashington.org/rac-schedule/private-event-9/
SUMMARY:Private Event
DESCRIPTION:
END:VEVENT
BEGIN:VEVENT
UID:19@forkswashington.org
DTSTART;TZID=America/Los_Angeles;VALUE=DATE:20231103
DTEND;TZID=America/Los_Angeles;VALUE=DATE:20231106
DTSTAMP:20230605T211158Z
URL:https://forkswashington.org/rac-schedule/event/
SUMMARY:Event
DESCRIPTION:
END:VEVENT
BEGIN:VEVENT
UID:22@forkswashington.org
DTSTART;TZID=America/Los_Angeles;VALUE=DATE:20240703
DTEND;TZID=America/Los_Angeles;VALUE=DATE:20240715
DTSTAMP:20240626T182727Z
URL:https://forkswashington.org/rac-schedule/4th-of-july-art-show/
SUMMARY:4th of July Art Show
DESCRIPTION:
END:VEVENT
BEGIN:VEVENT
UID:23@forkswashington.org
DTSTART;TZID=America/Los_Angeles:20240708T000000
DTEND;TZID=America/Los_Angeles:20240708T130000
DTSTAMP:20240626T182823Z
URL:https://forkswashington.org/rac-schedule/not-available/
SUMMARY:Not Available
DESCRIPTION:
END:VEVENT
BEGIN:VEVENT
UID:24@forkswashington.org
DTSTART;TZID=America/Los_Angeles;VALUE=DATE:20240724
DTEND;TZID=America/Los_Angeles;VALUE=DATE:20240726
DTSTAMP:20240626T182903Z
URL:https://forkswashington.org/rac-schedule/private-event-10/
SUMMARY:Private Event
DESCRIPTION:
END:VEVENT
BEGIN:VEVENT
UID:25@forkswashington.org
DTSTART;TZID=America/Los_Angeles:20240726T000000
DTEND;TZID=America/Los_Angeles:20240726T130000
DTSTAMP:20240626T182935Z
URL:https://forkswashington.org/rac-schedule/not-available-2/
SUMMARY:Not Available
DESCRIPTION:
END:VEVENT
BEGIN:VEVENT
UID:26@forkswashington.org
DTSTART;TZID=America/Los_Angeles:20250110T000000
DTEND;TZID=America/Los_Angeles:20250112T235900
DTSTAMP:20250109T175259Z
URL:https://forkswashington.org/rac-schedule/private-event-11/
SUMMARY:Private Event
DESCRIPTION:Booked 1/10/2015–1/12/2025
END:VEVENT
BEGIN:VEVENT
UID:27@forkswashington.org
DTSTART;TZID=America/Los_Angeles:20250111T000000
DTEND;TZID=America/Los_Angeles:20250111T235900
DTSTAMP:20250109T175234Z
URL:https://forkswashington.org/rac-schedule/private-event-12/
SUMMARY:Private Event
DESCRIPTION:Booked 1/10/2025-1/12/2025
END:VEVENT
BEGIN:VEVENT
UID:28@forkswashington.org
DTSTART;TZID=America/Los_Angeles:20250112T000000
DTEND;TZID=America/Los_Angeles:20250112T235900
DTSTAMP:20250109T175349Z
URL:https://forkswashington.org/rac-schedule/private-event-13/
SUMMARY:Private Event
DESCRIPTION:Booked 1/10/2025-1/12/2025
END:VEVENT
BEGIN:VEVENT
UID:29@forkswashington.org
DTSTART;TZID=America/Los_Angeles:20250116T000000
DTEND;TZID=America/Los_Angeles:20250116T235900
DTSTAMP:20250109T175504Z
URL:https://forkswashington.org/rac-schedule/private-event-14/
SUMMARY:Private Event
DESCRIPTION:Booked 1/16/2025
END:VEVENT
BEGIN:VEVENT
UID:30@forkswashington.org
DTSTART;TZID=America/Los_Angeles:20250120T000000
DTEND;TZID=America/Los_Angeles:20250120T000000
DTSTAMP:20250109T180027Z
URL:https://forkswashington.org/rac-schedule/rac-not-available-for-rent/
SUMMARY:RAC Unavailable for Rent
DESCRIPTION:
END:VEVENT
BEGIN:VEVENT
UID:31@forkswashington.org
DTSTART;TZID=America/Los_Angeles:20250124T000000
DTEND;TZID=America/Los_Angeles:20250124T235900
DTSTAMP:20250109T180300Z
URL:https://forkswashington.org/rac-schedule/private-event-15/
SUMMARY:Private Event
DESCRIPTION:Booked 1/24/2025-1/26/2025
END:VEVENT
BEGIN:VEVENT
UID:32@forkswashington.org
DTSTART;TZID=America/Los_Angeles:20250125T000000
DTEND;TZID=America/Los_Angeles:20250125T235900
DTSTAMP:20250109T180447Z
URL:https://forkswashington.org/rac-schedule/private-event-16/
SUMMARY:Private Event
DESCRIPTION:Booked 1/24/2025-1/26/2025
END:VEVENT
BEGIN:VEVENT
UID:33@forkswashington.org
DTSTART;TZID=America/Los_Angeles:20250126T000000
DTEND;TZID=America/Los_Angeles:20250126T235900
DTSTAMP:20250109T180746Z
URL:https://forkswashington.org/rac-schedule/private-event-17/
SUMMARY:Private Event
DESCRIPTION:Booked 1/24/2025-1/26/2025
END:VEVENT
BEGIN:VEVENT
UID:34@forkswashington.org
DTSTART;TZID=America/Los_Angeles:20250131T000000
DTEND;TZID=America/Los_Angeles:20250131T235900
DTSTAMP:20250109T180943Z
URL:https://forkswashington.org/rac-schedule/private-event-18/
SUMMARY:Private Event
DESCRIPTION:Booked 1/31/2025-2/2/2025
END:VEVENT
BEGIN:VEVENT
UID:35@forkswashington.org
DTSTART;TZID=America/Los_Angeles:20250201T000000
DTEND;TZID=America/Los_Angeles:20250201T235900
DTSTAMP:20250109T181234Z
URL:https://forkswashington.org/rac-schedule/private-event-19/
SUMMARY:Private Event
DESCRIPTION:Booked 1/31/2025-2/2/2025
END:VEVENT
BEGIN:VEVENT
UID:36@forkswashington.org
DTSTART;TZID=America/Los_Angeles;VALUE=DATE:20250202
DTEND;TZID=America/Los_Angeles;VALUE=DATE:20250203
DTSTAMP:20250109T181315Z
URL:https://forkswashington.org/rac-schedule/private-event-20/
SUMMARY:Private Event
DESCRIPTION:Booked 1/31/2025-2/2/2025
END:VEVENT
BEGIN:VEVENT
UID:90@forkswashington.org
DTSTART;TZID=America/Los_Angeles;VALUE=DATE:20250214
DTEND;TZID=America/Los_Angeles;VALUE=DATE:20250215
DTSTAMP:20250113T185250Z
URL:https://forkswashington.org/rac-schedule/private-event-38/
SUMMARY:Private Event
DESCRIPTION:Booked 2/14/2025-2/16/2025
END:VEVENT
BEGIN:VEVENT
UID:91@forkswashington.org
DTSTART;TZID=America/Los_Angeles;VALUE=DATE:20250215
DTEND;TZID=America/Los_Angeles;VALUE=DATE:20250216
DTSTAMP:20250113T185306Z
URL:https://forkswashington.org/rac-schedule/private-event-39/
SUMMARY:Private Event
DESCRIPTION:Booked 2/14/2025-2/16/2025
END:VEVENT
BEGIN:VEVENT
UID:92@forkswashington.org
DTSTART;TZID=America/Los_Angeles;VALUE=DATE:20250216
DTEND;TZID=America/Los_Angeles;VALUE=DATE:20250217
DTSTAMP:20250113T185324Z
URL:https://forkswashington.org/rac-schedule/private-event-41/
SUMMARY:Private Event
DESCRIPTION:Booked 2/14/2025-2/16/2025
END:VEVENT
BEGIN:VEVENT
UID:37@forkswashington.org
DTSTART;TZID=America/Los_Angeles;VALUE=DATE:20250217
DTEND;TZID=America/Los_Angeles;VALUE=DATE:20250218
DTSTAMP:20250109T181449Z
URL:https://forkswashington.org/rac-schedule/rac-unavailable-for-rent/
SUMMARY:RAC Unavailable for Rent
DESCRIPTION:
END:VEVENT
BEGIN:VEVENT
UID:38@forkswashington.org
DTSTART;TZID=America/Los_Angeles;VALUE=DATE:20250409
DTEND;TZID=America/Los_Angeles;VALUE=DATE:20250410
DTSTAMP:20250109T181620Z
URL:https://forkswashington.org/rac-schedule/rac-unavailable-for-rent-2/
SUMMARY:RAC Unavailable for Rent
DESCRIPTION:No Cleaning Available.
END:VEVENT
BEGIN:VEVENT
UID:39@forkswashington.org
DTSTART;TZID=America/Los_Angeles;VALUE=DATE:20250410
DTEND;TZID=America/Los_Angeles;VALUE=DATE:20250411
DTSTAMP:20250109T181816Z
URL:https://forkswashington.org/rac-schedule/rac-unavailable-for-rent-3/
SUMMARY:RAC Unavailable for Rent
DESCRIPTION:No Cleaning Available.
END:VEVENT
BEGIN:VEVENT
UID:40@forkswashington.org
DTSTART;TZID=America/Los_Angeles;VALUE=DATE:20250411
DTEND;TZID=America/Los_Angeles;VALUE=DATE:20250412
DTSTAMP:20250109T181949Z
URL:https://forkswashington.org/rac-schedule/private-event-21/
SUMMARY:Private Event
DESCRIPTION:Booked 4/11/2025-4/13/2025
END:VEVENT
BEGIN:VEVENT
UID:41@forkswashington.org
DTSTART;TZID=America/Los_Angeles;VALUE=DATE:20250412
DTEND;TZID=America/Los_Angeles;VALUE=DATE:20250413
DTSTAMP:20250109T182036Z
URL:https://forkswashington.org/rac-schedule/private-event-22/
SUMMARY:Private Event
DESCRIPTION:Booked 4/11/2025-4/13/2025
END:VEVENT
BEGIN:VEVENT
UID:42@forkswashington.org
DTSTART;TZID=America/Los_Angeles;VALUE=DATE:20250413
DTEND;TZID=America/Los_Angeles;VALUE=DATE:20250414
DTSTAMP:20250109T182114Z
URL:https://forkswashington.org/rac-schedule/private-event-23/
SUMMARY:Private Event
DESCRIPTION:Booked 4/11/2025-4/13/2025
END:VEVENT
BEGIN:VEVENT
UID:43@forkswashington.org
DTSTART;TZID=America/Los_Angeles;VALUE=DATE:20250414
DTEND;TZID=America/Los_Angeles;VALUE=DATE:20250415
DTSTAMP:20250109T182201Z
URL:https://forkswashington.org/rac-schedule/rac-unavailable-for-rent-4/
SUMMARY:RAC Unavailable for Rent
DESCRIPTION:No Cleaning Available.
END:VEVENT
BEGIN:VEVENT
UID:44@forkswashington.org
DTSTART;TZID=America/Los_Angeles;VALUE=DATE:20250415
DTEND;TZID=America/Los_Angeles;VALUE=DATE:20250416
DTSTAMP:20250109T182232Z
URL:https://forkswashington.org/rac-schedule/rac-unavailable-for-rent-5/
SUMMARY:RAC Unavailable for Rent
DESCRIPTION:No Cleaning Available.
END:VEVENT
BEGIN:VEVENT
UID:45@forkswashington.org
DTSTART;TZID=America/Los_Angeles;VALUE=DATE:20250424
DTEND;TZID=America/Los_Angeles;VALUE=DATE:20250425
DTSTAMP:20250109T182804Z
URL:https://forkswashington.org/rac-schedule/private-event-24/
SUMMARY:Private Event
DESCRIPTION:Booked 4/24/2025
END:VEVENT
BEGIN:VEVENT
UID:119@forkswashington.org
DTSTART;TZID=America/Los_Angeles;VALUE=DATE:20250425
DTEND;TZID=America/Los_Angeles;VALUE=DATE:20250426
DTSTAMP:20250311T230717Z
URL:https://forkswashington.org/rac-schedule/rac-unavailable-for-rent-21/
SUMMARY:RAC Unavailable for Rent
DESCRIPTION:The RAC will be unavailable for rent due to cleaning.
END:VEVENT
BEGIN:VEVENT
UID:132@forkswashington.org
DTSTART;TZID=America/Los_Angeles;VALUE=DATE:20250509
DTEND;TZID=America/Los_Angeles;VALUE=DATE:20250510
DTSTAMP:20250311T233741Z
URL:https://forkswashington.org/rac-schedule/private-event-62/
SUMMARY:Private Event
DESCRIPTION:Booked 05/09/2025-05/11/2025.
END:VEVENT
BEGIN:VEVENT
UID:133@forkswashington.org
DTSTART;TZID=America/Los_Angeles;VALUE=DATE:20250510
DTEND;TZID=America/Los_Angeles;VALUE=DATE:20250511
DTSTAMP:20250311T233815Z
URL:https://forkswashington.org/rac-schedule/private-event-63/
SUMMARY:Private Event
DESCRIPTION:Booked 05/09/2025-05/11/2025.
END:VEVENT
BEGIN:VEVENT
UID:134@forkswashington.org
DTSTART;TZID=America/Los_Angeles;VALUE=DATE:20250511
DTEND;TZID=America/Los_Angeles;VALUE=DATE:20250512
DTSTAMP:20250311T233840Z
URL:https://forkswashington.org/rac-schedule/private-event-64/
SUMMARY:Private Event
DESCRIPTION:Booked 05/09/2025-05/11/2025.
END:VEVENT
BEGIN:VEVENT
UID:135@forkswashington.org
DTSTART;TZID=America/Los_Angeles;VALUE=DATE:20250512
DTEND;TZID=America/Los_Angeles;VALUE=DATE:20250513
DTSTAMP:20250311T233920Z
URL:https://forkswashington.org/rac-schedule/rac-unavailable-for-rent-27/
SUMMARY:RAC Unavailable for Rent
DESCRIPTION:The RAC will be unavailable for rent due to cleaning.
END:VEVENT
BEGIN:VTIMEZONE
TZID:America/Los_Angeles
X-LIC-LOCATION:America/Los_Angeles
BEGIN:STANDARD
DTSTART:20221106T010000
TZOFFSETFROM:-0700
TZOFFSETTO:-0800
TZNAME:PST
END:STANDARD
BEGIN:DAYLIGHT
DTSTART:20230312T030000
TZOFFSETFROM:-0800
TZOFFSETTO:-0700
TZNAME:PDT
END:DAYLIGHT
BEGIN:STANDARD
DTSTART:20231105T010000
TZOFFSETFROM:-0700
TZOFFSETTO:-0800
TZNAME:PST
END:STANDARD
BEGIN:DAYLIGHT
DTSTART:20240310T030000
TZOFFSETFROM:-0800
TZOFFSETTO:-0700
TZNAME:PDT
END:DAYLIGHT
BEGIN:STANDARD
DTSTART:20241103T010000
TZOFFSETFROM:-0700
TZOFFSETTO:-0800
TZNAME:PST
END:STANDARD
BEGIN:DAYLIGHT
DTSTART:20250309T030000
TZOFFSETFROM:-0800
TZOFFSETTO:-0700
TZNAME:PDT
END:DAYLIGHT
END:VTIMEZONE
END:VCALENDAR